Workbook

Sheet Cover Page
A8: Commission for Independent Education Projected or Actual Budget Form 606 Section 1005.31, Florida Statutes Rule 6E-2.002, Rule 6E-2.004, Florida Administrative Code Effective July 2013

Sheet Instructions
A1: I. | B1: The purpose of this form is to collect the budget information necessary to evaluate the financial structure of the institution.
A3: II. | B3: Instructions.
B4: This form must be completed in its entirety and submitted to the Commission at the following address: 325 West Gaines Street, Suite 1414, Tallahassee, FL 32399-0400.
B6: Inside this Microsoft Excel workbook are multiple worksheets which may be accessed by clicking on the tabs at the bottom of the page. Each applicable worksheet must be completed in its entirety.
A8: II. a. | B8: Tuition Revenue Summary Worksheet.
B9: The Tuition Revenue Summary worksheet provides a summary of the projected tuition revenue of the institution based on projected student population for all programs. The information on this worksheet is automatically calculated from data entered by program on Program Revenue worksheets 1-20 (as applicable).
A11: II. b. | B11: Program Revenue Worksheets 1-20.
B12: The completion of a Program Revenue worksheet is required for each program. The following fields must be completed:
B14: Program Information – Enter the Program Title, Credential to be conferred, and the Clock/Credit hours of the program.
B16: Tuition Factor – Enter the amount of projected earned tuition revenue based on one student for one month by program.
B18: Tuition Revenue – Each field is automatically calculated.
B20: Beginning Population – Enter the beginning population for the first month of the period. Subsequent months are automatically calculated fields.
B22: New Starts - Beginning of Month - Enter the number of new student enrollments in the program who enrolled from the 1st day of the month through the 15th of the month.
B24: New Starts - End of Month - Enter the number of new student enrollments in the program who enrolled from the 16th day of the month through the end of the month.
B26: Total New Starts - These are automatically calculated fields.
B28: Re-Entries - Beginning of Month - Enter the number of students who left the program and who have now returned. This field should include the number of students who re-enrolled in the program from the 1st day of the month through the 15th of the month.
B30: Re-Entries - Ending of Month - Enter the number of students who left the program and who have now returned. This field should include the number of students who re-enrolled in the program from the 16th day of the month through the end of the month.
B32: Total Re-Entries and Total Working Population - These are automatically calculated fields.
B34: Withdrawals, Leave of Absence, and Graduates - Enter the number of students as appropriate.
... B38: Monthly Attrition, Cumulative Annual Attrition, and Cumulative Annual Growth - These are calculated fields.
A40: II. c. | B40: Budget Worksheet.
B42: The completion of this worksheet is required.
B44: The Tuition Revenue field is automatically populated from the Tuition Revenue Summary Worksheet.
B46: Complete this form by entering the dollar amounts for each monthly category. If a value is not applicable, enter zero (0).

Sheet Budget
A1: Projected or Actual Budget
A3: Institution Name:
A4: Institution City:
A5: Prepared By:
B7: Month 1 | C7: Month 2 | D7: Month 3 | E7: Month 4 | F7: Month 5 | G7: Month 6 | H7: Month 7 | I7: Month 8 | J7: Month 9 | K7: Month 10 | L7: Month 11 | M7: Month 12 | N7: YTD
A8: REVENUE
A9: Tuition Revenue | B9: ='Tuition Revenue Summary'!B8 -> 0 | C9: ='Tuition Revenue Summary'!C8 -> 0 | D9: ='Tuition Revenue Summary'!D8 -> 0 | E9: ='Tuition Revenue Summary'!E8 -> 0 | F9: ='Tuition Revenue Summary'!F8 -> 0 | G9: ='Tuition Revenue Summary'!G8 -> 0 | H9: ='Tuition Revenue Summary'!H8 -> 0 | I9: ='Tuition Revenue Summary'!I8 -> 0 | ... M9: ='Tuition Revenue Summary'!M8 -> 0 | N9: =SUM(B9:M9) -> 0
A10: Tuition Adjustments (e.g. refunds) | B10: 0 | C10: 0 | D10: 0 | E10: 0 | F10: 0 | G10: 0 | H10: 0 | I10: 0 | J10: 0 | K10: 0 | L10: 0 | M10: 0 | N10: =SUM(B10:M10) -> 0
A11: Books and Supplies | B11: 0 | C11: 0 | D11: 0 | E11: 0 | F11: 0 | G11: 0 | H11: 0 | I11: 0 | J11: 0 | K11: 0 | L11: 0 | M11: 0 | N11: =SUM(B11:M11) -> 0
A12: Registration Fees | B12: 0 | C12: 0 | D12: 0 | E12: 0 | F12: 0 | G12: 0 | H12: 0 | I12: 0 | J12: 0 | K12: 0 | L12: 0 | M12: 0 | N12: =SUM(B12:M12) -> 0
A13: Other | B13: 0 | C13: 0 | D13: 0 | E13: 0 | F13: 0 | G13: 0 | H13: 0 | I13: 0 | J13: 0 | K13: 0 | L13: 0 | M13: 0 | N13: =SUM(B13:M13) -> 0
A14: TOTAL MONTHLY REVENUE | B14: =(B9+B11+B12+B13)-B10 -> 0 | C14: =(C9+C11+C12+C13)-C10 -> 0 | D14: =(D9+D11+D12+D13)-D10 -> 0 | E14: =(E9+E11+E12+E13)-E10 -> 0 | F14: =(F9+F11+F12+F13)-F10 -> 0 | G14: =(G9+G11+G12+G13)-G10 -> 0 | H14: =(H9+H11+H12+H13)-H10 -> 0 | I14: =(I9+I11+I12+I13)-I10 -> 0 | ... N14: =(N9+N11+N12+N13)-N10 -> 0
A15: COST OF SALES
A16: FT Instructional Wages | B16: 0 | C16: 0 | D16: 0 | E16: 0 | F16: 0 | G16: 0 | H16: 0 | I16: 0 | J16: 0 | K16: 0 | L16: 0 | M16: 0 | N16: =SUM(B16:M16) -> 0
A17: Adjunct/Contract Labor Wages | B17: 0 | C17: 0 | D17: 0 | E17: 0 | F17: 0 | G17: 0 | H17: 0 | I17: 0 | J17: 0 | K17: 0 | L17: 0 | M17: 0 | N17: =SUM(B17:M17) -> 0
A18: Non-Instructional Academic Wages | B18: 0 | C18: 0 | D18: 0 | E18: 0 | F18: 0 | G18: 0 | H18: 0 | I18: 0 | J18: 0 | K18: 0 | L18: 0 | M18: 0 | N18: =SUM(B18:M18) -> 0
A19: Total Wages | B19: =SUM(B16:B18) -> 0 | C19: =SUM(C16:C18) -> 0 | D19: =SUM(D16:D18) -> 0 | E19: =SUM(E16:E18) -> 0 | F19: =SUM(F16:F18) -> 0 | G19: =SUM(G16:G18) -> 0 | H19: =SUM(H16:H18) -> 0 | I19: =SUM(I16:I18) -> 0 | ... N19: =SUM(N16:N18) -> 0
A20: Workers Comp Insurance | B20: 0 | C20: 0 | D20: 0 | E20: 0 | F20: 0 | G20: 0 | H20: 0 | I20: 0 | J20: 0 | K20: 0 | L20: 0 | M20: 0 | N20: =SUM(B20:M20) -> 0
A21: Training & Development | B21: 0 | C21: 0 | D21: 0 | E21: 0 | F21: 0 | G21: 0 | H21: 0 | I21: 0 | J21: 0 | K21: 0 | L21: 0 | M21: 0 | N21: =SUM(B21:M21) -> 0
A22: Text Book Cost | B22: 0 | C22: 0 | D22: 0 | E22: 0 | F22: 0 | G22: 0 | H22: 0 | I22: 0 | J22: 0 | K22: 0 | L22: 0 | M22: 0 | N22: =SUM(B22:M22) -> 0
A23: Library Books | B23: 0 | C23: 0 | D23: 0 | E23: 0 | F23: 0 | G23: 0 | H23: 0 | I23: 0 | J23: 0 | K23: 0 | L23: 0 | M23: 0 | N23: =SUM(B23:M23) -> 0
A24: Student Related Expenses | B24: 0 | C24: 0 | D24: 0 | E24: 0 | F24: 0 | G24: 0 | H24: 0 | I24: 0 | J24: 0 | K24: 0 | L24: 0 | M24: 0 | N24: =SUM(B24:M24) -> 0
A25: Instructional Expenses/ Classroom Supplies | B25: 0 | C25: 0 | D25: 0 | E25: 0 | F25: 0 | G25: 0 | H25: 0 | I25: 0 | J25: 0 | K25: 0 | L25: 0 | M25: 0 | N25: =SUM(B25:M25) -> 0
A26: Payroll Tax & Benefits | B26: 0 | C26: 0 | D26: 0 | E26: 0 | F26: 0 | G26: 0 | H26: 0 | I26: 0 | J26: 0 | K26: 0 | L26: 0 | M26: 0 | N26: =SUM(B26:M26) -> 0
A27: Other | B27: 0 | C27: 0 | D27: 0 | E27: 0 | F27: 0 | G27: 0 | H27: 0 | I27: 0 | J27: 0 | K27: 0 | L27: 0 | M27: 0 | N27: =SUM(B27:M27) -> 0
A28: TOTAL COST OF SALES | B28: =SUM(B19:B27) -> 0 | C28: =SUM(C19:C27) -> 0 | D28: =SUM(D19:D27) -> 0 | E28: =SUM(E19:E27) -> 0 | F28: =SUM(F19:F27) -> 0 | G28: =SUM(G19:G27) -> 0 | H28: =SUM(H19:H27) -> 0 | I28: =SUM(I19:I27) -> 0 | ... N28: =SUM(N19:N27) -> 0
A29: GROSS PROFIT | B29: =B14-B28 -> 0 | C29: =C14-C28 -> 0 | D29: =D14-D28 -> 0 | E29: =E14-E28 -> 0 | F29: =F14-F28 -> 0 | G29: =G14-G28 -> 0 | H29: =H14-H28 -> 0 | I29: =I14-I28 -> 0 | ... N29: =N14-N28 -> 0
A30: STUDENT RECRUITMENT
A31: ADVERTISING
A32: Production | B32: 0 | C32: 0 | D32: 0 | E32: 0 | F32: 0 | G32: 0 | H32: 0 | I32: 0 | J32: 0 | K32: 0 | L32: 0 | M32: 0 | N32: =SUM(B32:M32) -> 0
A33: Public Relations/Travel | B33: 0 | C33: 0 | D33: 0 | E33: 0 | F33: 0 | G33: 0 | H33: 0 | I33: 0 | J33: 0 | K33: 0 | L33: 0 | M33: 0 | N33: =SUM(B33:M33) -> 0
A34: Supplies | B34: 0 | C34: 0 | D34: 0 | E34: 0 | F34: 0 | G34: 0 | H34: 0 | I34: 0 | J34: 0 | K34: 0 | L34: 0 | M34: 0 | N34: =SUM(B34:M34) -> 0
A35: Telemarketing | B35: 0 | C35: 0 | D35: 0 | E35: 0 | F35: 0 | G35: 0 | H35: 0 | I35: 0 | J35: 0 | K35: 0 | L35: 0 | M35: 0 | N35: =SUM(B35:M35) -> 0
A36: Advertising-Direct Mail, Publications, Radio, Etc. | B36: 0 | C36: 0 | D36: 0 | E36: 0 | F36: 0 | G36: 0 | H36: 0 | I36: 0 | J36: 0 | K36: 0 | L36: 0 | M36: 0 | N36: =SUM(B36:M36) -> 0
A37: Other | B37: 0 | C37: 0 | D37: 0 | E37: 0 | F37: 0 | G37: 0 | H37: 0 | I37: 0 | J37: 0 | K37: 0 | L37: 0 | M37: 0 | N37: =SUM(B37:M37) -> 0
A38: TOTAL ADVERTISING | B38: =SUM(B32:B37) -> 0 | C38: =SUM(C32:C37) -> 0 | D38: =SUM(D32:D37) -> 0 | E38: =SUM(E32:E37) -> 0 | F38: =SUM(F32:F37) -> 0 | G38: =SUM(G32:G37) -> 0 | H38: =SUM(H32:H37) -> 0 | I38: =SUM(I32:I37) -> 0 | ... N38: =SUM(N32:N37) -> 0
A39: LABOR
A40: Salaries | B40: 0 | C40: 0 | D40: 0 | E40: 0 | F40: 0 | G40: 0 | H40: 0 | I40: 0 | J40: 0 | K40: 0 | L40: 0 | M40: 0 | N40: =SUM(B40:M40) -> 0
A41: Payroll Tax & Benefits | B41: 0 | C41: 0 | D41: 0 | E41: 0 | F41: 0 | G41: 0 | H41: 0 | I41: 0 | J41: 0 | K41: 0 | L41: 0 | M41: 0 | N41: =SUM(B41:M41) -> 0
A42: Training & Development | B42: 0 | C42: 0 | D42: 0 | E42: 0 | F42: 0 | G42: 0 | H42: 0 | I42: 0 | J42: 0 | K42: 0 | L42: 0 | M42: 0 | N42: =SUM(B42:M42) -> 0
...

Sheet Tuition Revenue Summary
B1: Tuition Revenue Summary - All Programs
A3: Institution Name:
A4: Institution City:
A5: Prepared By:
B7: Month 1 | C7: Month 2 | D7: Month 3 | E7: Month 4 | F7: Month 5 | G7: Month 6 | H7: Month 7 | I7: Month 8 | J7: Month 9 | K7: Month 10 | L7: Month 11 | M7: Month 12 | N7: YTD
A8: Tuition Revenue: | B8: =SUM('Program Revenue 1:Program Revenue 20'!B8) -> 0 | C8: =SUM('Program Revenue 1:Program Revenue 20'!C8) -> 0 | D8: =SUM('Program Revenue 1:Program Revenue 20'!D8) -> 0 | E8: =SUM('Program Revenue 1:Program Revenue 20'!E8) -> 0 | F8: =SUM('Program Revenue 1:Program Revenue 20'!F8) -> 0 | G8: =SUM('Program Revenue 1:Program Revenue 20'!G8) -> 0 | H8: =SUM('Program Revenue 1:Program Revenue 20'!H8) -> 0 | I8: =SUM('Program Revenue 1:Program Revenue 20'!I8) -> 0 | ... M8: =SUM('Program Revenue 1:Program Revenue 20'!M8) -> 0 | N8: =SUM(B8:M8) -> 0
B11: Month 1 | C11: Month 2 | D11: Month 3 | E11: Month 4 | F11: Month 5 | G11: Month 6 | H11: Month 7 | I11: Month 8 | J11: Month 9 | K11: Month 10 | L11: Month 11 | M11: Month 12 | N11: YTD
B12: 1 | C12: 2 | D12: 3 | E12: 4 | F12: 5 | G12: 6 | H12: 7 | I12: 8 | J12: 9 | K12: 10 | L12: 11 | M12: 12 | N12: 13
A13: Beginning Pop | B13: =SUM('Program Revenue 1:Program Revenue 20'!B13) -> 0 | C13: =B29 -> 0 | D13: =C29 -> 0 | E13: =D29 -> 0 | F13: =E29 -> 0 | G13: =F29 -> 0 | H13: =G29 -> 0 | I13: =H29 -> 0 | J13: =I29 -> 0 | ... M13: =L29 -> 0 | N13: =B13 -> 0
A15: New Starts - Beg. of Month | B15: =SUM('Program Revenue 1:Program Revenue 20'!B15) -> 0 | C15: =SUM('Program Revenue 1:Program Revenue 20'!C15) -> 0 | D15: =SUM('Program Revenue 1:Program Revenue 20'!D15) -> 0 | E15: =SUM('Program Revenue 1:Program Revenue 20'!E15) -> 0 | F15: =SUM('Program Revenue 1:Program Revenue 20'!F15) -> 0 | G15: =SUM('Program Revenue 1:Program Revenue 20'!G15) -> 0 | H15: =SUM('Program Revenue 1:Program Revenue 20'!H15) -> 0 | I15: =SUM('Program Revenue 1:Program Revenue 20'!I15) -> 0 | ... M15: =SUM('Program Revenue 1:Program Revenue 20'!M15) -> 0 | N15: =SUM(B15:M15) -> 0
A16: New Starts - End of Month | B16: =SUM('Program Revenue 1:Program Revenue 20'!B16) -> 0 | C16: =SUM('Program Revenue 1:Program Revenue 20'!C16) -> 0 | D16: =SUM('Program Revenue 1:Program Revenue 20'!D16) -> 0 | E16: =SUM('Program Revenue 1:Program Revenue 20'!E16) -> 0 | F16: =SUM('Program Revenue 1:Program Revenue 20'!F16) -> 0 | G16: =SUM('Program Revenue 1:Program Revenue 20'!G16) -> 0 | H16: =SUM('Program Revenue 1:Program Revenue 20'!H16) -> 0 | I16: =SUM('Program Revenue 1:Program Revenue 20'!I16) -> 0 | ... M16: =SUM('Program Revenue 1:Program Revenue 20'!M16) -> 0 | N16: =SUM(B16:M16) -> 0
A17: Total New Starts | B17: =SUM(B15:B16) -> 0 | C17: =SUM(C15:C16) -> 0 | D17: =SUM(D15:D16) -> 0 | E17: =SUM(E15:E16) -> 0 | F17: =SUM(F15:F16) -> 0 | G17: =SUM(G15:G16) -> 0 | H17: =SUM(H15:H16) -> 0 | I17: =SUM(I15:I16) -> 0 | ... N17: =SUM(N15:N16) -> 0
A19: Re-Entries - Beg. of Month | B19: =SUM('Program Revenue 1:Program Revenue 20'!B19) -> 0 | C19: =SUM('Program Revenue 1:Program Revenue 20'!C19) -> 0 | D19: =SUM('Program Revenue 1:Program Revenue 20'!D19) -> 0 | E19: =SUM('Program Revenue 1:Program Revenue 20'!E19) -> 0 | F19: =SUM('Program Revenue 1:Program Revenue 20'!F19) -> 0 | G19: =SUM('Program Revenue 1:Program Revenue 20'!G19) -> 0 | H19: =SUM('Program Revenue 1:Program Revenue 20'!H19) -> 0 | I19: =SUM('Program Revenue 1:Program Revenue 20'!I19) -> 0 | ... M19: =SUM('Program Revenue 1:Program Revenue 20'!M19) -> 0 | N19: =SUM(B19:M19) -> 0
A20: Re-Entries - End of Month | B20: =SUM('Program Revenue 1:Program Revenue 20'!B20) -> 0 | C20: =SUM('Program Revenue 1:Program Revenue 20'!C20) -> 0 | D20: =SUM('Program Revenue 1:Program Revenue 20'!D20) -> 0 | E20: =SUM('Program Revenue 1:Program Revenue 20'!E20) -> 0 | F20: =SUM('Program Revenue 1:Program Revenue 20'!F20) -> 0 | G20: =SUM('Program Revenue 1:Program Revenue 20'!G20) -> 0 | H20: =SUM('Program Revenue 1:Program Revenue 20'!H20) -> 0 | I20: =SUM('Program Revenue 1:Program Revenue 20'!I20) -> 0 | ... M20: =SUM('Program Revenue 1:Program Revenue 20'!M20) -> 0 | N20: =SUM(B20:M20) -> 0
A21: Total Re-entries | B21: =SUM(B19:B20) -> 0 | C21: =SUM(C19:C20) -> 0 | D21: =SUM(D19:D20) -> 0 | E21: =SUM(E19:E20) -> 0 | F21: =SUM(F19:F20) -> 0 | G21: =SUM(G19:G20) -> 0 | H21: =SUM(H19:H20) -> 0 | I21: =SUM(I19:I20) -> 0 | ... N21: =SUM(N19:N20) -> 0
A23: Total Working Population | B23: =SUM(B13,B17,B21) -> 0 | C23: =SUM(C13,C17,C21) -> 0 | D23: =SUM(D13,D17,D21) -> 0 | E23: =SUM(E13,E17,E21) -> 0 | F23: =SUM(F13,F17,F21) -> 0 | G23: =SUM(G13,G17,G21) -> 0 | H23: =SUM(H13,H17,H21) -> 0 | I23: =SUM(I13,I17,I21) -> 0 | ... N23: =SUM(N13,N17,N21) -> 0
A25: Withdrawals | B25: =SUM('Program Revenue 1:Program Revenue 20'!B25) -> 0 | C25: =SUM('Program Revenue 1:Program Revenue 20'!C25) -> 0 | D25: =SUM('Program Revenue 1:Program Revenue 20'!D25) -> 0 | E25: =SUM('Program Revenue 1:Program Revenue 20'!E25) -> 0 | F25: =SUM('Program Revenue 1:Program Revenue 20'!F25) -> 0 | G25: =SUM('Program Revenue 1:Program Revenue 20'!G25) -> 0 | H25: =SUM('Program Revenue 1:Program Revenue 20'!H25) -> 0 | I25: =SUM('Program Revenue 1:Program Revenue 20'!I25) -> 0 | ... M25: =SUM('Program Revenue 1:Program Revenue 20'!M25) -> 0 | N25: =SUM(B25:M25) -> 0
A26: Leaves of Absence | B26: =SUM('Program Revenue 1:Program Revenue 20'!B26) -> 0 | C26: =SUM('Program Revenue 1:Program Revenue 20'!C26) -> 0 | D26: =SUM('Program Revenue 1:Program Revenue 20'!D26) -> 0 | E26: =SUM('Program Revenue 1:Program Revenue 20'!E26) -> 0 | F26: =SUM('Program Revenue 1:Program Revenue 20'!F26) -> 0 | G26: =SUM('Program Revenue 1:Program Revenue 20'!G26) -> 0 | H26: =SUM('Program Revenue 1:Program Revenue 20'!H26) -> 0 | I26: =SUM('Program Revenue 1:Program Revenue 20'!I26) -> 0 | ... M26: =SUM('Program Revenue 1:Program Revenue 20'!M26) -> 0 | N26: =SUM(B26:M26) -> 0
A27: Graduates | B27: =SUM('Program Revenue 1:Program Revenue 20'!B27) -> 0 | C27: =SUM('Program Revenue 1:Program Revenue 20'!C27) -> 0 | D27: =SUM('Program Revenue 1:Program Revenue 20'!D27) -> 0 | E27: =SUM('Program Revenue 1:Program Revenue 20'!E27) -> 0 | F27: =SUM('Program Revenue 1:Program Revenue 20'!F27) -> 0 | G27: =SUM('Program Revenue 1:Program Revenue 20'!G27) -> 0 | H27: =SUM('Program Revenue 1:Program Revenue 20'!H27) -> 0 | I27: =SUM('Program Revenue 1:Program Revenue 20'!I27) -> 0 | ... M27: =SUM('Program Revenue 1:Program Revenue 20'!M27) -> 0 | N27: =SUM(B27:M27) -> 0
A29: Ending Population | B29: =(B23-SUM(B25:B27)) -> 0 | C29: =(C23-SUM(C25:C27)) -> 0 | D29: =(D23-SUM(D25:D27)) -> 0 | E29: =(E23-SUM(E25:E27)) -> 0 | F29: =(F23-SUM(F25:F27)) -> 0 | G29: =(G23-SUM(G25:G27)) -> 0 | H29: =(H23-SUM(H25:H27)) -> 0 | I29: =(I23-SUM(I25:I27)) -> 0 | ... N29: =(N23-SUM(N25:N27)) -> 0
A31: Monthly Attrition | B31: =IFERROR((B25-B21)/(B13+B17-B26),0) -> 0 | C31: =IFERROR((C25-C21)/(C13+C17-C26),0) -> 0 | D31: =IFERROR((D25-D21)/(D13+D17-D26),0) -> 0 | E31: =IFERROR((E25-E21)/(E13+E17-E26),0) -> 0 | F31: =IFERROR((F25-F21)/(F13+F17-F26),0) -> 0 | G31: =IFERROR((G25-G21)/(G13+G17-G26),0) -> 0 | H31: =IFERROR((H25-H21)/(H13+H17-H26),0) -> 0 | I31: =IFERROR((I25-I21)/(I13+I17-I26),0) -> 0 | ... M31: =IFERROR((M25-M21)/(M13+M17-M26),0) -> 0 | N31: =AVERAGE(B31:M31) -> 0
A32: Cumulative Annual Attrition | B32: =IFERROR((SUM($B$25:B$25)-SUM($B$21:B$21))/($B$13+SUM($B$17:B$17)-SUM($B$26:B$26)),0) -> 0 | C32: =IFERROR((SUM($B$25:C$25)-SUM($B$21:C$21))/($B$13+SUM($B$17:C$17)-SUM($B$26:C$26)),0) -> 0 | D32: =IFERROR((SUM($B$25:D$25)-SUM($B$21:D$21))/($B$13+SUM($B$17:D$17)-SUM($B$26:D$26)),0) -> 0 | E32: =IFERROR((SUM($B$25:E$25)-SUM($B$21:E$21))/($B$13+SUM($B$17:E$17)-SUM($B$26:E$26)),0) -> 0 | F32: =IFERROR((SUM($B$25:F$25)-SUM($B$21:F$21))/($B$13+SUM($B$17:F$17)-SUM($B$26:F$26)),0) -> 0 | G32: =IFERROR((SUM($B$25:G$25)-SUM($B$21:G$21))/($B$13+SUM($B$17:G$17)-SUM($B$26:G$26)),0) -> 0 | H32: =IFERROR((SUM($B$25:H$25)-SUM($B$21:H$21))/($B$13+SUM($B$17:H$17)-SUM($B$26:H$26)),0) -> 0 | I32: =IFERROR((SUM($B$25:I$25)-SUM($B$21:I$21))/($B$13+SUM($B$17:I$17)-SUM($B$26:I$26)),0) -> 0 | ... M32: =IFERROR((SUM($B$25:M$25)-SUM($B$21:M$21))/($B$13+SUM($B$17:M$17)-SUM($B$26:M$26)),0) -> 0 | N32: =M32 -> 0
A34: Cumulative Annual Growth | B34: =IF($B$13=0,0,(B29/$B$13)-1) -> 0 | C34: =IF($B$13=0,0,(C29/$B$13)-1) -> 0 | D34: =IF($B$13=0,0,(D29/$B$13)-1) -> 0 | E34: =IF($B$13=0,0,(E29/$B$13)-1) -> 0 | F34: =IF($B$13=0,0,(F29/$B$13)-1) -> 0 | G34: =IF($B$13=0,0,(G29/$B$13)-1) -> 0 | H34: =IF($B$13=0,0,(H29/$B$13)-1) -> 0 | I34: =IF($B$13=0,0,(I29/$B$13)-1) -> 0 | ... N34: =IF($B$13=0,0,(N29/$B$13)-1) -> 0

Sheet Program Revenue 1
A1: Program Revenue Worksheet
A3: Institution Name: | G3: Program Title: | M3: Tuition Factor: | N3: 0
A4: Institution City: | G4: Credential:
A5: Prepared By: | G5: Clock Hours: | I5: Credit Hours:
B7: Month 1 | C7: Month 2 | D7: Month 3 | E7: Month 4 | F7: Month 5 | G7: Month 6 | H7: Month 7 | I7: Month 8 | J7: Month 9 | K7: Month 10 | L7: Month 11 | M7: Month 12 | N7: YTD
A8: Tuition Revenue: | B8: =+$N$3*(B23-B20-B16-B26) -> 0 | C8: =+$N$3*(C23-C20-C16-C26) -> 0 | D8: =+$N$3*(D23-D20-D16-D26) -> 0 | E8: =+$N$3*(E23-E20-E16-E26) -> 0 | F8: =+$N$3*(F23-F20-F16-F26) -> 0 | G8: =+$N$3*(G23-G20-G16-G26) -> 0 | H8: =+$N$3*(H23-H20-H16-H26) -> 0 | I8: =+$N$3*(I23-I20-I16-I26) -> 0 | ... M8: =+$N$3*(M23-M20-M16-M26) -> 0 | N8: =SUM(B8:M8) -> 0
B11: Month 1 | C11: Month 2 | D11: Month 3 | E11: Month 4 | F11: Month 5 | G11: Month 6 | H11: Month 7 | I11: Month 8 | J11: Month 9 | K11: Month 10 | L11: Month 11 | M11: Month 12 | N11: YTD
B12: 1 | C12: 2 | D12: 3 | E12: 4 | F12: 5 | G12: 6 | H12: 7 | I12: 8 | J12: 9 | K12: 10 | L12: 11 | M12: 12 | N12: 13
A13: Beginning Pop | C13: =B29 -> 0 | D13: =C29 -> 0 | E13: =D29 -> 0 | F13: =E29 -> 0 | G13: =F29 -> 0 | H13: =G29 -> 0 | I13: =H29 -> 0 | J13: =I29 -> 0 | ... M13: =L29 -> 0 | N13: =B13 -> 0
A15: New Starts - Beg. of Month | N15: =SUM(B15:M15) -> 0
A16: New Starts - End of Month | N16: =SUM(B16:M16) -> 0
A17: Total New Starts | B17: =SUM(B15:B16) -> 0 | C17: =SUM(C15:C16) -> 0 | D17: =SUM(D15:D16) -> 0 | E17: =SUM(E15:E16) -> 0 | F17: =SUM(F15:F16) -> 0 | G17: =SUM(G15:G16) -> 0 | H17: =SUM(H15:H16) -> 0 | I17: =SUM(I15:I16) -> 0 | ... N17: =SUM(N15:N16) -> 0
A19: Re-Entries - Beg. of Month | N19: =SUM(B19:M19) -> 0
A20: Re-Entries - End of Month | N20: =SUM(B20:M20) -> 0
A21: Total Re-entries | B21: =SUM(B19:B20) -> 0 | C21: =SUM(C19:C20) -> 0 | D21: =SUM(D19:D20) -> 0 | E21: =SUM(E19:E20) -> 0 | F21: =SUM(F19:F20) -> 0 | G21: =SUM(G19:G20) -> 0 | H21: =SUM(H19:H20) -> 0 | I21: =SUM(I19:I20) -> 0 | ... N21: =SUM(N19:N20) -> 0
A23: Total Working Population | B23: =SUM(B13,B17,B21) -> 0 | C23: =SUM(C13,C17,C21) -> 0 | D23: =SUM(D13,D17,D21) -> 0 | E23: =SUM(E13,E17,E21) -> 0 | F23: =SUM(F13,F17,F21) -> 0 | G23: =SUM(G13,G17,G21) -> 0 | H23: =SUM(H13,H17,H21) -> 0 | I23: =SUM(I13,I17,I21) -> 0 | ... N23: =SUM(N13,N17,N21) -> 0
A25: Withdrawals | N25: =SUM(B25:M25) -> 0
A26: Leaves of Absence | N26: =SUM(B26:M26) -> 0
A27: Graduates | N27: =SUM(B27:M27) -> 0
A29: Ending Population | B29: =(B23-SUM(B25:B27)) -> 0 | C29: =(C23-SUM(C25:C27)) -> 0 | D29: =(D23-SUM(D25:D27)) -> 0 | E29: =(E23-SUM(E25:E27)) -> 0 | F29: =(F23-SUM(F25:F27)) -> 0 | G29: =(G23-SUM(G25:G27)) -> 0 | H29: =(H23-SUM(H25:H27)) -> 0 | I29: =(I23-SUM(I25:I27)) -> 0 | ... N29: =(N23-SUM(N25:N27)) -> 0
A31: Monthly Attrition | B31: =IFERROR((B25-B21)/(B13+B17-B26),0) -> 0 | C31: =IFERROR((C25-C21)/(C13+C17-C26),0) -> 0 | D31: =IFERROR((D25-D21)/(D13+D17-D26),0) -> 0 | E31: =IFERROR((E25-E21)/(E13+E17-E26),0) -> 0 | F31: =IFERROR((F25-F21)/(F13+F17-F26),0) -> 0 | G31: =IFERROR((G25-G21)/(G13+G17-G26),0) -> 0 | H31: =IFERROR((H25-H21)/(H13+H17-H26),0) -> 0 | I31: =IFERROR((I25-I21)/(I13+I17-I26),0) -> 0 | ... M31: =IFERROR((M25-M21)/(M13+M17-M26),0) -> 0 | N31: =AVERAGE(B31:M31) -> 0
A32: Cumulative Annual Attrition | B32: =IFERROR((SUM($B$25:B$25)-SUM($B$21:B$21))/($B$13+SUM($B$17:B$17)-SUM($B$26:B$26)),0) -> 0 | C32: =IFERROR((SUM($B$25:C$25)-SUM($B$21:C$21))/($B$13+SUM($B$17:C$17)-SUM($B$26:C$26)),0) -> 0 | D32: =IFERROR((SUM($B$25:D$25)-SUM($B$21:D$21))/($B$13+SUM($B$17:D$17)-SUM($B$26:D$26)),0) -> 0 | E32: =IFERROR((SUM($B$25:E$25)-SUM($B$21:E$21))/($B$13+SUM($B$17:E$17)-SUM($B$26:E$26)),0) -> 0 | F32: =IFERROR((SUM($B$25:F$25)-SUM($B$21:F$21))/($B$13+SUM($B$17:F$17)-SUM($B$26:F$26)),0) -> 0 | G32: =IFERROR((SUM($B$25:G$25)-SUM($B$21:G$21))/($B$13+SUM($B$17:G$17)-SUM($B$26:G$26)),0) -> 0 | H32: =IFERROR((SUM($B$25:H$25)-SUM($B$21:H$21))/($B$13+SUM($B$17:H$17)-SUM($B$26:H$26)),0) -> 0 | I32: =IFERROR((SUM($B$25:I$25)-SUM($B$21:I$21))/($B$13+SUM($B$17:I$17)-SUM($B$26:I$26)),0) -> 0 | ... M32: =IFERROR((SUM($B$25:M$25)-SUM($B$21:M$21))/($B$13+SUM($B$17:M$17)-SUM($B$26:M$26)),0) -> 0 | N32: =M32 -> 0
A34: Cumulative Annual Growth | B34: =IF($B$13=0,0,(B29/$B$13)-1) -> 0 | C34: =IF($B$13=0,0,(C29/$B$13)-1) -> 0 | D34: =IF($B$13=0,0,(D29/$B$13)-1) -> 0 | E34: =IF($B$13=0,0,(E29/$B$13)-1) -> 0 | F34: =IF($B$13=0,0,(F29/$B$13)-1) -> 0 | G34: =IF($B$13=0,0,(G29/$B$13)-1) -> 0 | H34: =IF($B$13=0,0,(H29/$B$13)-1) -> 0 | I34: =IF($B$13=0,0,(I29/$B$13)-1) -> 0 | ... N34: =IF($B$13=0,0,(N29/$B$13)-1) -> 0

Sheet Program Revenue 2
A1: Program Revenue Worksheet
A3: Institution Name: | G3: Program Title: | M3: Tuition Factor: | N3: 0
A4: Institution City: | G4: Credential:
A5: Prepared By: | G5: Clock Hours: | I5: Credit Hours:
B7: Month 1 | C7: Month 2 | D7: Month 3 | E7: Month 4 | F7: Month 5 | G7: Month 6 | H7: Month 7 | I7: Month 8 | J7: Month 9 | K7: Month 10 | L7: Month 11 | M7: Month 12 | N7: YTD
A8: Tuition Revenue: | B8: =+$N$3*(B23-B20-B16-B26) -> 0 | C8: =+$N$3*(C23-C20-C16-C26) -> 0 | D8: =+$N$3*(D23-D20-D16-D26) -> 0 | E8: =+$N$3*(E23-E20-E16-E26) -> 0 | F8: =+$N$3*(F23-F20-F16-F26) -> 0 | G8: =+$N$3*(G23-G20-G16-G26) -> 0 | H8: =+$N$3*(H23-H20-H16-H26) -> 0 | I8: =+$N$3*(I23-I20-I16-I26) -> 0 | ... M8: =+$N$3*(M23-M20-M16-M26) -> 0 | N8: =SUM(B8:M8) -> 0
B11: Month 1 | C11: Month 2 | D11: Month 3 | E11: Month 4 | F11: Month 5 | G11: Month 6 | H11: Month 7 | I11: Month 8 | J11: Month 9 | K11: Month 10 | L11: Month 11 | M11: Month 12 | N11: YTD
B12: 1 | C12: 2 | D12: 3 | E12: 4 | F12: 5 | G12: 6 | H12: 7 | I12: 8 | J12: 9 | K12: 10 | L12: 11 | M12: 12 | N12: 13
A13: Beginning Pop | C13: =B29 -> 0 | D13: =C29 -> 0 | E13: =D29 -> 0 | F13: =E29 -> 0 | G13: =F29 -> 0 | H13: =G29 -> 0 | I13: =H29 -> 0 | J13: =I29 -> 0 | ... M13: =L29 -> 0 | N13: =B13 -> 0
A15: New Starts - Beg. of Month | N15: =SUM(B15:M15) -> 0
A16: New Starts - End of Month | N16: =SUM(B16:M16) -> 0
A17: Total New Starts | B17: =SUM(B15:B16) -> 0 | C17: =SUM(C15:C16) -> 0 | D17: =SUM(D15:D16) -> 0 | E17: =SUM(E15:E16) -> 0 | F17: =SUM(F15:F16) -> 0 | G17: =SUM(G15:G16) -> 0 | H17: =SUM(H15:H16) -> 0 | I17: =SUM(I15:I16) -> 0 | ... N17: =SUM(N15:N16) -> 0
A19: Re-Entries - Beg. of Month | N19: =SUM(B19:M19) -> 0
A20: Re-Entries - End of Month | N20: =SUM(B20:M20) -> 0
A21: Total Re-entries | B21: =SUM(B19:B20) -> 0 | C21: =SUM(C19:C20) -> 0 | D21: =SUM(D19:D20) -> 0 | E21: =SUM(E19:E20) -> 0 | F21: =SUM(F19:F20) -> 0 | G21: =SUM(G19:G20) -> 0 | H21: =SUM(H19:H20) -> 0 | I21: =SUM(I19:I20) -> 0 | ... N21: =SUM(N19:N20) -> 0
A23: Total Working Population | B23: =SUM(B13,B17,B21) -> 0 | C23: =SUM(C13,C17,C21) -> 0 | D23: =SUM(D13,D17,D21) -> 0 | E23: =SUM(E13,E17,E21) -> 0 | F23: =SUM(F13,F17,F21) -> 0 | G23: =SUM(G13,G17,G21) -> 0 | H23: =SUM(H13,H17,H21) -> 0 | I23: =SUM(I13,I17,I21) -> 0 | ... N23: =SUM(N13,N17,N21) -> 0
A25: Withdrawals | N25: =SUM(B25:M25) -> 0
A26: Leaves of Absence | N26: =SUM(B26:M26) -> 0
A27: Graduates | N27: =SUM(B27:M27) -> 0
A29: Ending Population | B29: =(B23-SUM(B25:B27)) -> 0 | C29: =(C23-SUM(C25:C27)) -> 0 | D29: =(D23-SUM(D25:D27)) -> 0 | E29: =(E23-SUM(E25:E27)) -> 0 | F29: =(F23-SUM(F25:F27)) -> 0 | G29: =(G23-SUM(G25:G27)) -> 0 | H29: =(H23-SUM(H25:H27)) -> 0 | I29: =(I23-SUM(I25:I27)) -> 0 | ... N29: =(N23-SUM(N25:N27)) -> 0
A31: Monthly Attrition | B31: =IFERROR((B25-B21)/(B13+B17-B26),0) -> 0 | C31: =IFERROR((C25-C21)/(C13+C17-C26),0) -> 0 | D31: =IFERROR((D25-D21)/(D13+D17-D26),0) -> 0 | E31: =IFERROR((E25-E21)/(E13+E17-E26),0) -> 0 | F31: =IFERROR((F25-F21)/(F13+F17-F26),0) -> 0 | G31: =IFERROR((G25-G21)/(G13+G17-G26),0) -> 0 | H31: =IFERROR((H25-H21)/(H13+H17-H26),0) -> 0 | I31: =IFERROR((I25-I21)/(I13+I17-I26),0) -> 0 | ... M31: =IFERROR((M25-M21)/(M13+M17-M26),0) -> 0 | N31: =AVERAGE(B31:M31) -> 0
A32: Cumulative Annual Attrition | B32: =IFERROR((SUM($B$25:B$25)-SUM($B$21:B$21))/($B$13+SUM($B$17:B$17)-SUM($B$26:B$26)),0) -> 0 | C32: =IFERROR((SUM($B$25:C$25)-SUM($B$21:C$21))/($B$13+SUM($B$17:C$17)-SUM($B$26:C$26)),0) -> 0 | D32: =IFERROR((SUM($B$25:D$25)-SUM($B$21:D$21))/($B$13+SUM($B$17:D$17)-SUM($B$26:D$26)),0) -> 0 | E32: =IFERROR((SUM($B$25:E$25)-SUM($B$21:E$21))/($B$13+SUM($B$17:E$17)-SUM($B$26:E$26)),0) -> 0 | F32: =IFERROR((SUM($B$25:F$25)-SUM($B$21:F$21))/($B$13+SUM($B$17:F$17)-SUM($B$26:F$26)),0) -> 0 | G32: =IFERROR((SUM($B$25:G$25)-SUM($B$21:G$21))/($B$13+SUM($B$17:G$17)-SUM($B$26:G$26)),0) -> 0 | H32: =IFERROR((SUM($B$25:H$25)-SUM($B$21:H$21))/($B$13+SUM($B$17:H$17)-SUM($B$26:H$26)),0) -> 0 | I32: =IFERROR((SUM($B$25:I$25)-SUM($B$21:I$21))/($B$13+SUM($B$17:I$17)-SUM($B$26:I$26)),0) -> 0 | ... M32: =IFERROR((SUM($B$25:M$25)-SUM($B$21:M$21))/($B$13+SUM($B$17:M$17)-SUM($B$26:M$26)),0) -> 0 | N32: =M32 -> 0
A34: Cumulative Annual Growth | B34: =IF($B$13=0,0,(B29/$B$13)-1) -> 0 | C34: =IF($B$13=0,0,(C29/$B$13)-1) -> 0 | D34: =IF($B$13=0,0,(D29/$B$13)-1) -> 0 | E34: =IF($B$13=0,0,(E29/$B$13)-1) -> 0 | F34: =IF($B$13=0,0,(F29/$B$13)-1) -> 0 | G34: =IF($B$13=0,0,(G29/$B$13)-1) -> 0 | H34: =IF($B$13=0,0,(H29/$B$13)-1) -> 0 | I34: =IF($B$13=0,0,(I29/$B$13)-1) -> 0 | ... N34: =IF($B$13=0,0,(N29/$B$13)-1) -> 0

Sheet Program Revenue 3
A1: Program Revenue Worksheet
A3: Institution Name: | G3: Program Title: | M3: Tuition Factor: | N3: 0
A4: Institution City: | G4: Credential:
A5: Prepared By: | G5: Clock Hours: | I5: Credit Hours:
B7: Month 1 | C7: Month 2 | D7: Month 3 | E7: Month 4 | F7: Month 5 | G7: Month 6 | H7: Month 7 | I7: Month 8 | J7: Month 9 | K7: Month 10 | L7: Month 11 | M7: Month 12 | N7: YTD
A8: Tuition Revenue: | B8: =+$N$3*(B23-B20-B16-B26) -> 0 | C8: =+$N$3*(C23-C20-C16-C26) -> 0 | D8: =+$N$3*(D23-D20-D16-D26) -> 0 | E8: =+$N$3*(E23-E20-E16-E26) -> 0 | F8: =+$N$3*(F23-F20-F16-F26) -> 0 | G8: =+$N$3*(G23-G20-G16-G26) -> 0 | H8: =+$N$3*(H23-H20-H16-H26) -> 0 | I8: =+$N$3*(I23-I20-I16-I26) -> 0 | ... M8: =+$N$3*(M23-M20-M16-M26) -> 0 | N8: =SUM(B8:M8) -> 0
B11: Month 1 | C11: Month 2 | D11: Month 3 | E11: Month 4 | F11: Month 5 | G11: Month 6 | H11: Month 7 | I11: Month 8 | J11: Month 9 | K11: Month 10 | L11: Month 11 | M11: Month 12 | N11: YTD
B12: 1 | C12: 2 | D12: 3 | E12: 4 | F12: 5 | G12: 6 | H12: 7 | I12: 8 | J12: 9 | K12: 10 | L12: 11 | M12: 12 | N12: 13
A13: Beginning Pop | C13: =B29 -> 0 | D13: =C29 -> 0 | E13: =D29 -> 0 | F13: =E29 -> 0 | G13: =F29 -> 0 | H13: =G29 -> 0 | I13: =H29 -> 0 | J13: =I29 -> 0 | ... M13: =L29 -> 0 | N13: =B13 -> 0
A15: New Starts - Beg. of Month | N15: =SUM(B15:M15) -> 0
A16: New Starts - End of Month | N16: =SUM(B16:M16) -> 0
A17: Total New Starts | B17: =SUM(B15:B16) -> 0 | C17: =SUM(C15:C16) -> 0 | D17: =SUM(D15:D16) -> 0 | E17: =SUM(E15:E16) -> 0 | F17: =SUM(F15:F16) -> 0 | G17: =SUM(G15:G16) -> 0 | H17: =SUM(H15:H16) -> 0 | I17: =SUM(I15:I16) -> 0 | ... N17: =SUM(N15:N16) -> 0
A19: Re-Entries - Beg. of Month | N19: =SUM(B19:M19) -> 0
A20: Re-Entries - End of Month | N20: =SUM(B20:M20) -> 0
A21: Total Re-entries | B21: =SUM(B19:B20) -> 0 | C21: =SUM(C19:C20) -> 0 | D21: =SUM(D19:D20) -> 0 | E21: =SUM(E19:E20) -> 0 | F21: =SUM(F19:F20) -> 0 | G21: =SUM(G19:G20) -> 0 | H21: =SUM(H19:H20) -> 0 | I21: =SUM(I19:I20) -> 0 | ... N21: =SUM(N19:N20) -> 0
A23: Total Working Population | B23: =SUM(B13,B17,B21) -> 0 | C23: =SUM(C13,C17,C21) -> 0 | D23: =SUM(D13,D17,D21) -> 0 | E23: =SUM(E13,E17,E21) -> 0 | F23: =SUM(F13,F17,F21) -> 0 | G23: =SUM(G13,G17,G21) -> 0 | H23: =SUM(H13,H17,H21) -> 0 | I23: =SUM(I13,I17,I21) -> 0 | ... N23: =SUM(N13,N17,N21) -> 0
A25: Withdrawals | N25: =SUM(B25:M25) -> 0
A26: Leaves of Absence | N26: =SUM(B26:M26) -> 0
A27: Graduates | N27: =SUM(B27:M27) -> 0
A29: Ending Population | B29: =(B23-SUM(B25:B27)) -> 0 | C29: =(C23-SUM(C25:C27)) -> 0 | D29: =(D23-SUM(D25:D27)) -> 0 | E29: =(E23-SUM(E25:E27)) -> 0 | F29: =(F23-SUM(F25:F27)) -> 0 | G29: =(G23-SUM(G25:G27)) -> 0 | H29: =(H23-SUM(H25:H27)) -> 0 | I29: =(I23-SUM(I25:I27)) -> 0 | ... N29: =(N23-SUM(N25:N27)) -> 0
A31: Monthly Attrition | B31: =IFERROR((B25-B21)/(B13+B17-B26),0) -> 0 | C31: =IFERROR((C25-C21)/(C13+C17-C26),0) -> 0 | D31: =IFERROR((D25-D21)/(D13+D17-D26),0) -> 0 | E31: =IFERROR((E25-E21)/(E13+E17-E26),0) -> 0 | F31: =IFERROR((F25-F21)/(F13+F17-F26),0) -> 0 | G31: =IFERROR((G25-G21)/(G13+G17-G26),0) -> 0 | H31: =IFERROR((H25-H21)/(H13+H17-H26),0) -> 0 | I31: =IFERROR((I25-I21)/(I13+I17-I26),0) -> 0 | ... M31: =IFERROR((M25-M21)/(M13+M17-M26),0) -> 0 | N31: =AVERAGE(B31:M31) -> 0
A32: Cumulative Annual Attrition | B32: =IFERROR((SUM($B$25:B$25)-SUM($B$21:B$21))/($B$13+SUM($B$17:B$17)-SUM($B$26:B$26)),0) -> 0 | C32: =IFERROR((SUM($B$25:C$25)-SUM($B$21:C$21))/($B$13+SUM($B$17:C$17)-SUM($B$26:C$26)),0) -> 0 | D32: =IFERROR((SUM($B$25:D$25)-SUM($B$21:D$21))/($B$13+SUM($B$17:D$17)-SUM($B$26:D$26)),0) -> 0 | E32: =IFERROR((SUM($B$25:E$25)-SUM($B$21:E$21))/($B$13+SUM($B$17:E$17)-SUM($B$26:E$26)),0) -> 0 | F32: =IFERROR((SUM($B$25:F$25)-SUM($B$21:F$21))/($B$13+SUM($B$17:F$17)-SUM($B$26:F$26)),0) -> 0 | G32: =IFERROR((SUM($B$25:G$25)-SUM($B$21:G$21))/($B$13+SUM($B$17:G$17)-SUM($B$26:G$26)),0) -> 0 | H32: =IFERROR((SUM($B$25:H$25)-SUM($B$21:H$21))/($B$13+SUM($B$17:H$17)-SUM($B$26:H$26)),0) -> 0 | I32: =IFERROR((SUM($B$25:I$25)-SUM($B$21:I$21))/($B$13+SUM($B$17:I$17)-SUM($B$26:I$26)),0) -> 0 | ... M32: =IFERROR((SUM($B$25:M$25)-SUM($B$21:M$21))/($B$13+SUM($B$17:M$17)-SUM($B$26:M$26)),0) -> 0 | N32: =M32 -> 0
A34: Cumulative Annual Growth | B34: =IF($B$13=0,0,(B29/$B$13)-1) -> 0 | C34: =IF($B$13=0,0,(C29/$B$13)-1) -> 0 | D34: =IF($B$13=0,0,(D29/$B$13)-1) -> 0 | E34: =IF($B$13=0,0,(E29/$B$13)-1) -> 0 | F34: =IF($B$13=0,0,(F29/$B$13)-1) -> 0 | G34: =IF($B$13=0,0,(G29/$B$13)-1) -> 0 | H34: =IF($B$13=0,0,(H29/$B$13)-1) -> 0 | I34: =IF($B$13=0,0,(I29/$B$13)-1) -> 0 | ... N34: =IF($B$13=0,0,(N29/$B$13)-1) -> 0

Sheet Program Revenue 4
A1: Program Revenue Worksheet
A3: Institution Name: | G3: Program Title: | M3: Tuition Factor: | N3: 0
A4: Institution City: | G4: Credential:
A5: Prepared By: | G5: Clock Hours: | I5: Credit Hours:
B7: Month 1 | C7: Month 2 | D7: Month 3 | E7: Month 4 | F7: Month 5 | G7: Month 6 | H7: Month 7 | I7: Month 8 | J7: Month 9 | K7: Month 10 | L7: Month 11 | M7: Month 12 | N7: YTD
A8: Tuition Revenue: | B8: =+$N$3*(B23-B20-B16-B26) -> 0 | C8: =+$N$3*(C23-C20-C16-C26) -> 0 | D8: =+$N$3*(D23-D20-D16-D26) -> 0 | E8: =+$N$3*(E23-E20-E16-E26) -> 0 | F8: =+$N$3*(F23-F20-F16-F26) -> 0 | G8: =+$N$3*(G23-G20-G16-G26) -> 0 | H8: =+$N$3*(H23-H20-H16-H26) -> 0 | I8: =+$N$3*(I23-I20-I16-I26) -> 0 | ... M8: =+$N$3*(M23-M20-M16-M26) -> 0 | N8: =SUM(B8:M8) -> 0
B11: Month 1 | C11: Month 2 | D11: Month 3 | E11: Month 4 | F11: Month 5 | G11: Month 6 | H11: Month 7 | I11: Month 8 | J11: Month 9 | K11: Month 10 | L11: Month 11 | M11: Month 12 | N11: YTD
B12: 1 | C12: 2 | D12: 3 | E12: 4 | F12: 5 | G12: 6 | H12: 7 | I12: 8 | J12: 9 | K12: 10 | L12: 11 | M12: 12 | N12: 13
A13: Beginning Pop | C13: =B29 -> 0 | D13: =C29 -> 0 | E13: =D29 -> 0 | F13: =E29 -> 0 | G13: =F29 -> 0 | H13: =G29 -> 0 | I13: =H29 -> 0 | J13: =I29 -> 0 | ... M13: =L29 -> 0 | N13: =B13 -> 0
A15: New Starts - Beg. of Month | N15: =SUM(B15:M15) -> 0
A16: New Starts - End of Month | N16: =SUM(B16:M16) -> 0
A17: Total New Starts | B17: =SUM(B15:B16) -> 0 | C17: =SUM(C15:C16) -> 0 | D17: =SUM(D15:D16) -> 0 | E17: =SUM(E15:E16) -> 0 | F17: =SUM(F15:F16) -> 0 | G17: =SUM(G15:G16) -> 0 | H17: =SUM(H15:H16) -> 0 | I17: =SUM(I15:I16) -> 0 | ... N17: =SUM(N15:N16) -> 0
A19: Re-Entries - Beg. of Month | N19: =SUM(B19:M19) -> 0
A20: Re-Entries - End of Month | N20: =SUM(B20:M20) -> 0
A21: Total Re-entries | B21: =SUM(B19:B20) -> 0 | C21: =SUM(C19:C20) -> 0 | D21: =SUM(D19:D20) -> 0 | E21: =SUM(E19:E20) -> 0 | F21: =SUM(F19:F20) -> 0 | G21: =SUM(G19:G20) -> 0 | H21: =SUM(H19:H20) -> 0 | I21: =SUM(I19:I20) -> 0 | ... N21: =SUM(N19:N20) -> 0
A23: Total Working Population | B23: =SUM(B13,B17,B21) -> 0 | C23: =SUM(C13,C17,C21) -> 0 | D23: =SUM(D13,D17,D21) -> 0 | E23: =SUM(E13,E17,E21) -> 0 | F23: =SUM(F13,F17,F21) -> 0 | G23: =SUM(G13,G17,G21) -> 0 | H23: =SUM(H13,H17,H21) -> 0 | I23: =SUM(I13,I17,I21) -> 0 | ... N23: =SUM(N13,N17,N21) -> 0
A25: Withdrawals | N25: =SUM(B25:M25) -> 0
A26: Leaves of Absence | N26: =SUM(B26:M26) -> 0
A27: Graduates | N27: =SUM(B27:M27) -> 0
A29: Ending Population | B29: =(B23-SUM(B25:B27)) -> 0 | C29: =(C23-SUM(C25:C27)) -> 0 | D29: =(D23-SUM(D25:D27)) -> 0 | E29: =(E23-SUM(E25:E27)) -> 0 | F29: =(F23-SUM(F25:F27)) -> 0 | G29: =(G23-SUM(G25:G27)) -> 0 | H29: =(H23-SUM(H25:H27)) -> 0 | I29: =(I23-SUM(I25:I27)) -> 0 | ... N29: =(N23-SUM(N25:N27)) -> 0
A31: Monthly Attrition | B31: =IFERROR((B25-B21)/(B13+B17-B26),0) -> 0 | C31: =IFERROR((C25-C21)/(C13+C17-C26),0) -> 0 | D31: =IFERROR((D25-D21)/(D13+D17-D26),0) -> 0 | E31: =IFERROR((E25-E21)/(E13+E17-E26),0) -> 0 | F31: =IFERROR((F25-F21)/(F13+F17-F26),0) -> 0 | G31: =IFERROR((G25-G21)/(G13+G17-G26),0) -> 0 | H31: =IFERROR((H25-H21)/(H13+H17-H26),0) -> 0 | I31: =IFERROR((I25-I21)/(I13+I17-I26),0) -> 0 | ... M31: =IFERROR((M25-M21)/(M13+M17-M26),0) -> 0 | N31: =AVERAGE(B31:M31) -> 0
A32: Cumulative Annual Attrition | B32: =IFERROR((SUM($B$25:B$25)-SUM($B$21:B$21))/($B$13+SUM($B$17:B$17)-SUM($B$26:B$26)),0) -> 0 | C32: =IFERROR((SUM($B$25:C$25)-SUM($B$21:C$21))/($B$13+SUM($B$17:C$17)-SUM($B$26:C$26)),0) -> 0 | D32: =IFERROR((SUM($B$25:D$25)-SUM($B$21:D$21))/($B$13+SUM($B$17:D$17)-SUM($B$26:D$26)),0) -> 0 | E32: =IFERROR((SUM($B$25:E$25)-SUM($B$21:E$21))/($B$13+SUM($B$17:E$17)-SUM($B$26:E$26)),0) -> 0 | F32: =IFERROR((SUM($B$25:F$25)-SUM($B$21:F$21))/($B$13+SUM($B$17:F$17)-SUM($B$26:F$26)),0) -> 0 | G32: =IFERROR((SUM($B$25:G$25)-SUM($B$21:G$21))/($B$13+SUM($B$17:G$17)-SUM($B$26:G$26)),0) -> 0 | H32: =IFERROR((SUM($B$25:H$25)-SUM($B$21:H$21))/($B$13+SUM($B$17:H$17)-SUM($B$26:H$26)),0) -> 0 | I32: =IFERROR((SUM($B$25:I$25)-SUM($B$21:I$21))/($B$13+SUM($B$17:I$17)-SUM($B$26:I$26)),0) -> 0 | ... M32: =IFERROR((SUM($B$25:M$25)-SUM($B$21:M$21))/($B$13+SUM($B$17:M$17)-SUM($B$26:M$26)),0) -> 0 | N32: =M32 -> 0
A34: Cumulative Annual Growth | B34: =IF($B$13=0,0,(B29/$B$13)-1) -> 0 | C34: =IF($B$13=0,0,(C29/$B$13)-1) -> 0 | D34: =IF($B$13=0,0,(D29/$B$13)-1) -> 0 | E34: =IF($B$13=0,0,(E29/$B$13)-1) -> 0 | F34: =IF($B$13=0,0,(F29/$B$13)-1) -> 0 | G34: =IF($B$13=0,0,(G29/$B$13)-1) -> 0 | H34: =IF($B$13=0,0,(H29/$B$13)-1) -> 0 | I34: =IF($B$13=0,0,(I29/$B$13)-1) -> 0 | ... N34: =IF($B$13=0,0,(N29/$B$13)-1) -> 0

Sheet Program Revenue 5
A1: Program Revenue Worksheet
A3: Institution Name: | G3: Program Title: | M3: Tuition Factor: | N3: 0
A4: Institution City: | G4: Credential:
A5: Prepared By: | G5: Clock Hours: | I5: Credit Hours:
B7: Month 1 | C7: Month 2 | D7: Month 3 | E7: Month 4 | F7: Month 5 | G7: Month 6 | H7: Month 7 | I7: Month 8 | J7: Month 9 | K7: Month 10 | L7: Month 11 | M7: Month 12 | N7: YTD
A8: Tuition Revenue: | B8: =+$N$3*(B23-B20-B16-B26) -> 0 | C8: =+$N$3*(C23-C20-C16-C26) -> 0 | D8: =+$N$3*(D23-D20-D16-D26) -> 0 | E8: =+$N$3*(E23-E20-E16-E26) -> 0 | F8: =+$N$3*(F23-F20-F16-F26) -> 0 | G8: =+$N$3*(G23-G20-G16-G26) -> 0 | H8: =+$N$3*(H23-H20-H16-H26) -> 0 | I8: =+$N$3*(I23-I20-I16-I26) -> 0 | ... M8: =+$N$3*(M23-M20-M16-M26) -> 0 | N8: =SUM(B8:M8) -> 0
B11: Month 1 | C11: Month 2 | D11: Month 3 | E11: Month 4 | F11: Month 5 | G11: Month 6 | H11: Month 7 | I11: Month 8 | J11: Month 9 | K11: Month 10 | L11: Month 11 | M11: Month 12 | N11: YTD
B12: 1 | C12: 2 | D12: 3 | E12: 4 | F12: 5 | G12: 6 | H12: 7 | I12: 8 | J12: 9 | K12: 10 | L12: 11 | M12: 12 | N12: 13
A13: Beginning Pop | C13: =B29 -> 0 | D13: =C29 -> 0 | E13: =D29 -> 0 | F13: =E29 -> 0 | G13: =F29 -> 0 | H13: =G29 -> 0 | I13: =H29 -> 0 | J13: =I29 -> 0 | ... M13: =L29 -> 0 | N13: =B13 -> 0
A15: New Starts - Beg. of Month | N15: =SUM(B15:M15) -> 0
A16: New Starts - End of Month | N16: =SUM(B16:M16) -> 0
A17: Total New Starts | B17: =SUM(B15:B16) -> 0 | C17: =SUM(C15:C16) -> 0 | D17: =SUM(D15:D16) -> 0 | E17: =SUM(E15:E16) -> 0 | F17: =SUM(F15:F16) -> 0 | G17: =SUM(G15:G16) -> 0 | H17: =SUM(H15:H16) -> 0 | I17: =SUM(I15:I16) -> 0 | ... N17: =SUM(N15:N16) -> 0
A19: Re-Entries - Beg. of Month | N19: =SUM(B19:M19) -> 0
A20: Re-Entries - End of Month | N20: =SUM(B20:M20) -> 0
A21: Total Re-entries | B21: =SUM(B19:B20) -> 0 | C21: =SUM(C19:C20) -> 0 | D21: =SUM(D19:D20) -> 0 | E21: =SUM(E19:E20) -> 0 | F21: =SUM(F19:F20) -> 0 | G21: =SUM(G19:G20) -> 0 | H21: =SUM(H19:H20) -> 0 | I21: =SUM(I19:I20) -> 0 | ... N21: =SUM(N19:N20) -> 0
A23: Total Working Population | B23: =SUM(B13,B17,B21) -> 0 | C23: =SUM(C13,C17,C21) -> 0 | D23: =SUM(D13,D17,D21) -> 0 | E23: =SUM(E13,E17,E21) -> 0 | F23: =SUM(F13,F17,F21) -> 0 | G23: =SUM(G13,G17,G21) -> 0 | H23: =SUM(H13,H17,H21) -> 0 | I23: =SUM(I13,I17,I21) -> 0 | ... N23: =SUM(N13,N17,N21) -> 0
A25: Withdrawals | N25: =SUM(B25:M25) -> 0
A26: Leaves of Absence | N26: =SUM(B26:M26) -> 0
A27: Graduates | N27: =SUM(B27:M27) -> 0
A29: Ending Population | B29: =(B23-SUM(B25:B27)) -> 0 | C29: =(C23-SUM(C25:C27)) -> 0 | D29: =(D23-SUM(D25:D27)) -> 0 | E29: =(E23-SUM(E25:E27)) -> 0 | F29: =(F23-SUM(F25:F27)) -> 0 | G29: =(G23-SUM(G25:G27)) -> 0 | H29: =(H23-SUM(H25:H27)) -> 0 | I29: =(I23-SUM(I25:I27)) -> 0 | ... N29: =(N23-SUM(N25:N27)) -> 0
A31: Monthly Attrition | B31: =IFERROR((B25-B21)/(B13+B17-B26),0) -> 0 | C31: =IFERROR((C25-C21)/(C13+C17-C26),0) -> 0 | D31: =IFERROR((D25-D21)/(D13+D17-D26),0) -> 0 | E31: =IFERROR((E25-E21)/(E13+E17-E26),0) -> 0 | F31: =IFERROR((F25-F21)/(F13+F17-F26),0) -> 0 | G31: =IFERROR((G25-G21)/(G13+G17-G26),0) -> 0 | H31: =IFERROR((H25-H21)/(H13+H17-H26),0) -> 0 | I31: =IFERROR((I25-I21)/(I13+I17-I26),0) -> 0 | ... M31: =IFERROR((M25-M21)/(M13+M17-M26),0) -> 0 | N31: =AVERAGE(B31:M31) -> 0
A32: Cumulative Annual Attrition | B32: =IFERROR((SUM($B$25:B$25)-SUM($B$21:B$21))/($B$13+SUM($B$17:B$17)-SUM($B$26:B$26)),0) -> 0 | C32: =IFERROR((SUM($B$25:C$25)-SUM($B$21:C$21))/($B$13+SUM($B$17:C$17)-SUM($B$26:C$26)),0) -> 0 | D32: =IFERROR((SUM($B$25:D$25)-SUM($B$21:D$21))/($B$13+SUM($B$17:D$17)-SUM($B$26:D$26)),0) -> 0 | E32: =IFERROR((SUM($B$25:E$25)-SUM($B$21:E$21))/($B$13+SUM($B$17:E$17)-SUM($B$26:E$26)),0) -> 0 | F32: =IFERROR((SUM($B$25:F$25)-SUM($B$21:F$21))/($B$13+SUM($B$17:F$17)-SUM($B$26:F$26)),0) -> 0 | G32: =IFERROR((SUM($B$25:G$25)-SUM($B$21:G$21))/($B$13+SUM($B$17:G$17)-SUM($B$26:G$26)),0) -> 0 | H32: =IFERROR((SUM($B$25:H$25)-SUM($B$21:H$21))/($B$13+SUM($B$17:H$17)-SUM($B$26:H$26)),0) -> 0 | I32: =IFERROR((SUM($B$25:I$25)-SUM($B$21:I$21))/($B$13+SUM($B$17:I$17)-SUM($B$26:I$26)),0) -> 0 | ... M32: =IFERROR((SUM($B$25:M$25)-SUM($B$21:M$21))/($B$13+SUM($B$17:M$17)-SUM($B$26:M$26)),0) -> 0 | N32: =M32 -> 0
A34: Cumulative Annual Growth | B34: =IF($B$13=0,0,(B29/$B$13)-1) -> 0 | C34: =IF($B$13=0,0,(C29/$B$13)-1) -> 0 | D34: =IF($B$13=0,0,(D29/$B$13)-1) -> 0 | E34: =IF($B$13=0,0,(E29/$B$13)-1) -> 0 | F34: =IF($B$13=0,0,(F29/$B$13)-1) -> 0 | G34: =IF($B$13=0,0,(G29/$B$13)-1) -> 0 | H34: =IF($B$13=0,0,(H29/$B$13)-1) -> 0 | I34: =IF($B$13=0,0,(I29/$B$13)-1) -> 0 | ... N34: =IF($B$13=0,0,(N29/$B$13)-1) -> 0

Sheet Program Revenue 6
A1: Program Revenue Worksheet
A3: Institution Name: | G3: Program Title: | M3: Tuition Factor: | N3: 0
A4: Institution City: | G4: Credential:
A5: Prepared By: | G5: Clock Hours: | I5: Credit Hours:
B7: Month 1 | C7: Month 2 | D7: Month 3 | E7: Month 4 | F7: Month 5 | G7: Month 6 | H7: Month 7 | I7: Month 8 | J7: Month 9 | K7: Month 10 | L7: Month 11 | M7: Month 12 | N7: YTD
A8: Tuition Revenue: | B8: =+$N$3*(B23-B20-B16-B26) -> 0 | C8: =+$N$3*(C23-C20-C16-C26) -> 0 | D8: =+$N$3*(D23-D20-D16-D26) -> 0 | E8: =+$N$3*(E23-E20-E16-E26) -> 0 | F8: =+$N$3*(F23-F20-F16-F26) -> 0 | G8: =+$N$3*(G23-G20-G16-G26) -> 0 | H8: =+$N$3*(H23-H20-H16-H26) -> 0 | I8: =+$N$3*(I23-I20-I16-I26) -> 0 | ... M8: =+$N$3*(M23-M20-M16-M26) -> 0 | N8: =SUM(B8:M8) -> 0
B11: Month 1 | C11: Month 2 | D11: Month 3 | E11: Month 4 | F11: Month 5 | G11: Month 6 | H11: Month 7 | I11: Month 8 | J11: Month 9 | K11: Month 10 | L11: Month 11 | M11: Month 12 | N11: YTD
B12: 1 | C12: 2 | D12: 3 | E12: 4 | F12: 5 | G12: 6 | H12: 7 | I12: 8 | J12: 9 | K12: 10 | L12: 11 | M12: 12 | N12: 13
A13: Beginning Pop | C13: =B29 -> 0 | D13: =C29 -> 0 | E13: =D29 -> 0 | F13: =E29 -> 0 | G13: =F29 -> 0 | H13: =G29 -> 0 | I13: =H29 -> 0 | J13: =I29 -> 0 | ... M13: =L29 -> 0 | N13: =B13 -> 0
A15: New Starts - Beg. of Month | N15: =SUM(B15:M15) -> 0
A16: New Starts - End of Month | N16: =SUM(B16:M16) -> 0
A17: Total New Starts | B17: =SUM(B15:B16) -> 0 | C17: =SUM(C15:C16) -> 0 | D17: =SUM(D15:D16) -> 0 | E17: =SUM(E15:E16) -> 0 | F17: =SUM(F15:F16) -> 0 | G17: =SUM(G15:G16) -> 0 | H17: =SUM(H15:H16) -> 0 | I17: =SUM(I15:I16) -> 0 | ... N17: =SUM(N15:N16) -> 0
A19: Re-Entries - Beg. of Month | N19: =SUM(B19:M19) -> 0
A20: Re-Entries - End of Month | N20: =SUM(B20:M20) -> 0
A21: Total Re-entries | B21: =SUM(B19:B20) -> 0 | C21: =SUM(C19:C20) -> 0 | D21: =SUM(D19:D20) -> 0 | E21: =SUM(E19:E20) -> 0 | F21: =SUM(F19:F20) -> 0 | G21: =SUM(G19:G20) -> 0 | H21: =SUM(H19:H20) -> 0 | I21: =SUM(I19:I20) -> 0 | ... N21: =SUM(N19:N20) -> 0
A23: Total Working Population | B23: =SUM(B13,B17,B21) -> 0 | C23: =SUM(C13,C17,C21) -> 0 | D23: =SUM(D13,D17,D21) -> 0 | E23: =SUM(E13,E17,E21) -> 0 | F23: =SUM(F13,F17,F21) -> 0 | G23: =SUM(G13,G17,G21) -> 0 | H23: =SUM(H13,H17,H21) -> 0 | I23: =SUM(I13,I17,I21) -> 0 | ... N23: =SUM(N13,N17,N21) -> 0
A25: Withdrawals | N25: =SUM(B25:M25) -> 0
A26: Leaves of Absence | N26: =SUM(B26:M26) -> 0
A27: Graduates | N27: =SUM(B27:M27) -> 0
A29: Ending Population | B29: =(B23-SUM(B25:B27)) -> 0 | C29: =(C23-SUM(C25:C27)) -> 0 | D29: =(D23-SUM(D25:D27)) -> 0 | E29: =(E23-SUM(E25:E27)) -> 0 | F29: =(F23-SUM(F25:F27)) -> 0 | G29: =(G23-SUM(G25:G27)) -> 0 | H29: =(H23-SUM(H25:H27)) -> 0 | I29: =(I23-SUM(I25:I27)) -> 0 | ... N29: =(N23-SUM(N25:N27)) -> 0
A31: Monthly Attrition | B31: =IFERROR((B25-B21)/(B13+B17-B26),0) -> 0 | C31: =IFERROR((C25-C21)/(C13+C17-C26),0) -> 0 | D31: =IFERROR((D25-D21)/(D13+D17-D26),0) -> 0 | E31: =IFERROR((E25-E21)/(E13+E17-E26),0) -> 0 | F31: =IFERROR((F25-F21)/(F13+F17-F26),0) -> 0 | G31: =IFERROR((G25-G21)/(G13+G17-G26),0) -> 0 | H31: =IFERROR((H25-H21)/(H13+H17-H26),0) -> 0 | I31: =IFERROR((I25-I21)/(I13+I17-I26),0) -> 0 | ... M31: =IFERROR((M25-M21)/(M13+M17-M26),0) -> 0 | N31: =AVERAGE(B31:M31) -> 0
A32: Cumulative Annual Attrition | B32: =IFERROR((SUM($B$25:B$25)-SUM($B$21:B$21))/($B$13+SUM($B$17:B$17)-SUM($B$26:B$26)),0) -> 0 | C32: =IFERROR((SUM($B$25:C$25)-SUM($B$21:C$21))/($B$13+SUM($B$17:C$17)-SUM($B$26:C$26)),0) -> 0 | D32: =IFERROR((SUM($B$25:D$25)-SUM($B$21:D$21))/($B$13+SUM($B$17:D$17)-SUM($B$26:D$26)),0) -> 0 | E32: =IFERROR((SUM($B$25:E$25)-SUM($B$21:E$21))/($B$13+SUM($B$17:E$17)-SUM($B$26:E$26)),0) -> 0 | F32: =IFERROR((SUM($B$25:F$25)-SUM($B$21:F$21))/($B$13+SUM($B$17:F$17)-SUM($B$26:F$26)),0) -> 0 | G32: =IFERROR((SUM($B$25:G$25)-SUM($B$21:G$21))/($B$13+SUM($B$17:G$17)-SUM($B$26:G$26)),0) -> 0 | H32: =IFERROR((SUM($B$25:H$25)-SUM($B$21:H$21))/($B$13+SUM($B$17:H$17)-SUM($B$26:H$26)),0) -> 0 | I32: =IFERROR((SUM($B$25:I$25)-SUM($B$21:I$21))/($B$13+SUM($B$17:I$17)-SUM($B$26:I$26)),0) -> 0 | ... M32: =IFERROR((SUM($B$25:M$25)-SUM($B$21:M$21))/($B$13+SUM($B$17:M$17)-SUM($B$26:M$26)),0) -> 0 | N32: =M32 -> 0
A34: Cumulative Annual Growth | B34: =IF($B$13=0,0,(B29/$B$13)-1) -> 0 | C34: =IF($B$13=0,0,(C29/$B$13)-1) -> 0 | D34: =IF($B$13=0,0,(D29/$B$13)-1) -> 0 | E34: =IF($B$13=0,0,(E29/$B$13)-1) -> 0 | F34: =IF($B$13=0,0,(F29/$B$13)-1) -> 0 | G34: =IF($B$13=0,0,(G29/$B$13)-1) -> 0 | H34: =IF($B$13=0,0,(H29/$B$13)-1) -> 0 | I34: =IF($B$13=0,0,(I29/$B$13)-1) -> 0 | ... N34: =IF($B$13=0,0,(N29/$B$13)-1) -> 0

Sheet Program Revenue 7
A1: Program Revenue Worksheet
A3: Institution Name: | G3: Program Title: | M3: Tuition Factor: | N3: 0
A4: Institution City: | G4: Credential:
A5: Prepared By: | G5: Clock Hours: | I5: Credit Hours:
B7: Month 1 | C7: Month 2 | D7: Month 3 | E7: Month 4 | F7: Month 5 | G7: Month 6 | H7: Month 7 | I7: Month 8 | J7: Month 9 | K7: Month 10 | L7: Month 11 | M7: Month 12 | N7: YTD
A8: Tuition Revenue: | B8: =+$N$3*(B23-B20-B16-B26) -> 0 | C8: =+$N$3*(C23-C20-C16-C26) -> 0 | D8: =+$N$3*(D23-D20-D16-D26) -> 0 | E8: =+$N$3*(E23-E20-E16-E26) -> 0 | F8: =+$N$3*(F23-F20-F16-F26) -> 0 | G8: =+$N$3*(G23-G20-G16-G26) -> 0 | H8: =+$N$3*(H23-H20-H16-H26) -> 0 | I8: =+$N$3*(I23-I20-I16-I26) -> 0 | ... M8: =+$N$3*(M23-M20-M16-M26) -> 0 | N8: =SUM(B8:M8) -> 0
B11: Month 1 | C11: Month 2 | D11: Month 3 | E11: Month 4 | F11: Month 5 | G11: Month 6 | H11: Month 7 | I11: Month 8 | J11: Month 9 | K11: Month 10 | L11: Month 11 | M11: Month 12 | N11: YTD
B12: 1 | C12: 2 | D12: 3 | E12: 4 | F12: 5 | G12: 6 | H12: 7 | I12: 8 | J12: 9 | K12: 10 | L12: 11 | M12: 12 | N12: 13
A13: Beginning Pop | C13: =B29 -> 0 | D13: =C29 -> 0 | E13: =D29 -> 0 | F13: =E29 -> 0 | G13: =F29 -> 0 | H13: =G29 -> 0 | I13: =H29 -> 0 | J13: =I29 -> 0 | ... M13: =L29 -> 0 | N13: =B13 -> 0
A15: New Starts - Beg. of Month | N15: =SUM(B15:M15) -> 0
A16: New Starts - End of Month | N16: =SUM(B16:M16) -> 0
A17: Total New Starts | B17: =SUM(B15:B16) -> 0 | C17: =SUM(C15:C16) -> 0 | D17: =SUM(D15:D16) -> 0 | E17: =SUM(E15:E16) -> 0 | F17: =SUM(F15:F16) -> 0 | G17: =SUM(G15:G16) -> 0 | H17: =SUM(H15:H16) -> 0 | I17: =SUM(I15:I16) -> 0 | ... N17: =SUM(N15:N16) -> 0
A19: Re-Entries - Beg. of Month | N19: =SUM(B19:M19) -> 0
A20: Re-Entries - End of Month | N20: =SUM(B20:M20) -> 0
A21: Total Re-entries | B21: =SUM(B19:B20) -> 0 | C21: =SUM(C19:C20) -> 0 | D21: =SUM(D19:D20) -> 0 | E21: =SUM(E19:E20) -> 0 | F21: =SUM(F19:F20) -> 0 | G21: =SUM(G19:G20) -> 0 | H21: =SUM(H19:H20) -> 0 | I21: =SUM(I19:I20) -> 0 | ... N21: =SUM(N19:N20) -> 0
A23: Total Working Population | B23: =SUM(B13,B17,B21) -> 0 | C23: =SUM(C13,C17,C21) -> 0 | D23: =SUM(D13,D17,D21) -> 0 | E23: =SUM(E13,E17,E21) -> 0 | F23: =SUM(F13,F17,F21) -> 0 | G23: =SUM(G13,G17,G21) -> 0 | H23: =SUM(H13,H17,H21) -> 0 | I23: =SUM(I13,I17,I21) -> 0 | ... N23: =SUM(N13,N17,N21) -> 0
A25: Withdrawals | N25: =SUM(B25:M25) -> 0
A26: Leaves of Absence | N26: =SUM(B26:M26) -> 0
A27: Graduates | N27: =SUM(B27:M27) -> 0
A29: Ending Population | B29: =(B23-SUM(B25:B27)) -> 0 | C29: =(C23-SUM(C25:C27)) -> 0 | D29: =(D23-SUM(D25:D27)) -> 0 | E29: =(E23-SUM(E25:E27)) -> 0 | F29: =(F23-SUM(F25:F27)) -> 0 | G29: =(G23-SUM(G25:G27)) -> 0 | H29: =(H23-SUM(H25:H27)) -> 0 | I29: =(I23-SUM(I25:I27)) -> 0 | ... N29: =(N23-SUM(N25:N27)) -> 0
A31: Monthly Attrition | B31: =IFERROR((B25-B21)/(B13+B17-B26),0) -> 0 | C31: =IFERROR((C25-C21)/(C13+C17-C26),0) -> 0 | D31: =IFERROR((D25-D21)/(D13+D17-D26),0) -> 0 | E31: =IFERROR((E25-E21)/(E13+E17-E26),0) -> 0 | F31: =IFERROR((F25-F21)/(F13+F17-F26),0) -> 0 | G31: =IFERROR((G25-G21)/(G13+G17-G26),0) -> 0 | H31: =IFERROR((H25-H21)/(H13+H17-H26),0) -> 0 | I31: =IFERROR((I25-I21)/(I13+I17-I26),0) -> 0 | ... M31: =IFERROR((M25-M21)/(M13+M17-M26),0) -> 0 | N31: =AVERAGE(B31:M31) -> 0
A32: Cumulative Annual Attrition | B32: =IFERROR((SUM($B$25:B$25)-SUM($B$21:B$21))/($B$13+SUM($B$17:B$17)-SUM($B$26:B$26)),0) -> 0 | C32: =IFERROR((SUM($B$25:C$25)-SUM($B$21:C$21))/($B$13+SUM($B$17:C$17)-SUM($B$26:C$26)),0) -> 0 | D32: =IFERROR((SUM($B$25:D$25)-SUM($B$21:D$21))/($B$13+SUM($B$17:D$17)-SUM($B$26:D$26)),0) -> 0 | E32: =IFERROR((SUM($B$25:E$25)-SUM($B$21:E$21))/($B$13+SUM($B$17:E$17)-SUM($B$26:E$26)),0) -> 0 | F32: =IFERROR((SUM($B$25:F$25)-SUM($B$21:F$21))/($B$13+SUM($B$17:F$17)-SUM($B$26:F$26)),0) -> 0 | G32: =IFERROR((SUM($B$25:G$25)-SUM($B$21:G$21))/($B$13+SUM($B$17:G$17)-SUM($B$26:G$26)),0) -> 0 | H32: =IFERROR((SUM($B$25:H$25)-SUM($B$21:H$21))/($B$13+SUM($B$17:H$17)-SUM($B$26:H$26)),0) -> 0 | I32: =IFERROR((SUM($B$25:I$25)-SUM($B$21:I$21))/($B$13+SUM($B$17:I$17)-SUM($B$26:I$26)),0) -> 0 | ... M32: =IFERROR((SUM($B$25:M$25)-SUM($B$21:M$21))/($B$13+SUM($B$17:M$17)-SUM($B$26:M$26)),0) -> 0 | N32: =M32 -> 0
A34: Cumulative Annual Growth | B34: =IF($B$13=0,0,(B29/$B$13)-1) -> 0 | C34: =IF($B$13=0,0,(C29/$B$13)-1) -> 0 | D34: =IF($B$13=0,0,(D29/$B$13)-1) -> 0 | E34: =IF($B$13=0,0,(E29/$B$13)-1) -> 0 | F34: =IF($B$13=0,0,(F29/$B$13)-1) -> 0 | G34: =IF($B$13=0,0,(G29/$B$13)-1) -> 0 | H34: =IF($B$13=0,0,(H29/$B$13)-1) -> 0 | I34: =IF($B$13=0,0,(I29/$B$13)-1) -> 0 | ... N34: =IF($B$13=0,0,(N29/$B$13)-1) -> 0

Sheet Program Revenue 8
A1: Program Revenue Worksheet
A3: Institution Name: | G3: Program Title: | M3: Tuition Factor: | N3: 0
A4: Institution City: | G4: Credential:
A5: Prepared By: | G5: Clock Hours: | I5: Credit Hours:
B7: Month 1 | C7: Month 2 | D7: Month 3 | E7: Month 4 | F7: Month 5 | G7: Month 6 | H7: Month 7 | I7: Month 8 | J7: Month 9 | K7: Month 10 | L7: Month 11 | M7: Month 12 | N7: YTD
A8: Tuition Revenue: | B8: =+$N$3*(B23-B20-B16-B26) -> 0 | C8: =+$N$3*(C23-C20-C16-C26) -> 0 | D8: =+$N$3*(D23-D20-D16-D26) -> 0 | E8: =+$N$3*(E23-E20-E16-E26) -> 0 | F8: =+$N$3*(F23-F20-F16-F26) -> 0 | G8: =+$N$3*(G23-G20-G16-G26) -> 0 | H8: =+$N$3*(H23-H20-H16-H26) -> 0 | I8: =+$N$3*(I23-I20-I16-I26) -> 0 | ... M8: =+$N$3*(M23-M20-M16-M26) -> 0 | N8: =SUM(B8:M8) -> 0
B11: Month 1 | C11: Month 2 | D11: Month 3 | E11: Month 4 | F11: Month 5 | G11: Month 6 | H11: Month 7 | I11: Month 8 | J11: Month 9 | K11: Month 10 | L11: Month 11 | M11: Month 12 | N11: YTD
B12: 1 | C12: 2 | D12: 3 | E12: 4 | F12: 5 | G12: 6 | H12: 7 | I12: 8 | J12: 9 | K12: 10 | L12: 11 | M12: 12 | N12: 13
A13: Beginning Pop | C13: =B29 -> 0 | D13: =C29 -> 0 | E13: =D29 -> 0 | F13: =E29 -> 0 | G13: =F29 -> 0 | H13: =G29 -> 0 | I13: =H29 -> 0 | J13: =I29 -> 0 | ... M13: =L29 -> 0 | N13: =B13 -> 0
A15: New Starts - Beg. of Month | N15: =SUM(B15:M15) -> 0
A16: New Starts - End of Month | N16: =SUM(B16:M16) -> 0
A17: Total New Starts | B17: =SUM(B15:B16) -> 0 | C17: =SUM(C15:C16) -> 0 | D17: =SUM(D15:D16) -> 0 | E17: =SUM(E15:E16) -> 0 | F17: =SUM(F15:F16) -> 0 | G17: =SUM(G15:G16) -> 0 | H17: =SUM(H15:H16) -> 0 | I17: =SUM(I15:I16) -> 0 | ... N17: =SUM(N15:N16) -> 0
A19: Re-Entries - Beg. of Month | N19: =SUM(B19:M19) -> 0
A20: Re-Entries - End of Month | N20: =SUM(B20:M20) -> 0
A21: Total Re-entries | B21: =SUM(B19:B20) -> 0 | C21: =SUM(C19:C20) -> 0 | D21: =SUM(D19:D20) -> 0 | E21: =SUM(E19:E20) -> 0 | F21: =SUM(F19:F20) -> 0 | G21: =SUM(G19:G20) -> 0 | H21: =SUM(H19:H20) -> 0 | I21: =SUM(I19:I20) -> 0 | ... N21: =SUM(N19:N20) -> 0
A23: Total Working Population | B23: =SUM(B13,B17,B21) -> 0 | C23: =SUM(C13,C17,C21) -> 0 | D23: =SUM(D13,D17,D21) -> 0 | E23: =SUM(E13,E17,E21) -> 0 | F23: =SUM(F13,F17,F21) -> 0 | G23: =SUM(G13,G17,G21) -> 0 | H23: =SUM(H13,H17,H21) -> 0 | I23: =SUM(I13,I17,I21) -> 0 | ... N23: =SUM(N13,N17,N21) -> 0
A25: Withdrawals | N25: =SUM(B25:M25) -> 0
A26: Leaves of Absence | N26: =SUM(B26:M26) -> 0
A27: Graduates | N27: =SUM(B27:M27) -> 0
A29: Ending Population | B29: =(B23-SUM(B25:B27)) -> 0 | C29: =(C23-SUM(C25:C27)) -> 0 | D29: =(D23-SUM(D25:D27)) -> 0 | E29: =(E23-SUM(E25:E27)) -> 0 | F29: =(F23-SUM(F25:F27)) -> 0 | G29: =(G23-SUM(G25:G27)) -> 0 | H29: =(H23-SUM(H25:H27)) -> 0 | I29: =(I23-SUM(I25:I27)) -> 0 | ... N29: =(N23-SUM(N25:N27)) -> 0
A31: Monthly Attrition | B31: =IFERROR((B25-B21)/(B13+B17-B26),0) -> 0 | C31: =IFERROR((C25-C21)/(C13+C17-C26),0) -> 0 | D31: =IFERROR((D25-D21)/(D13+D17-D26),0) -> 0 | E31: =IFERROR((E25-E21)/(E13+E17-E26),0) -> 0 | F31: =IFERROR((F25-F21)/(F13+F17-F26),0) -> 0 | G31: =IFERROR((G25-G21)/(G13+G17-G26),0) -> 0 | H31: =IFERROR((H25-H21)/(H13+H17-H26),0) -> 0 | I31: =IFERROR((I25-I21)/(I13+I17-I26),0) -> 0 | ... M31: =IFERROR((M25-M21)/(M13+M17-M26),0) -> 0 | N31: =AVERAGE(B31:M31) -> 0
A32: Cumulative Annual Attrition | B32: =IFERROR((SUM($B$25:B$25)-SUM($B$21:B$21))/($B$13+SUM($B$17:B$17)-SUM($B$26:B$26)),0) -> 0 | C32: =IFERROR((SUM($B$25:C$25)-SUM($B$21:C$21))/($B$13+SUM($B$17:C$17)-SUM($B$26:C$26)),0) -> 0 | D32: =IFERROR((SUM($B$25:D$25)-SUM($B$21:D$21))/($B$13+SUM($B$17:D$17)-SUM($B$26:D$26)),0) -> 0 | E32: =IFERROR((SUM($B$25:E$25)-SUM($B$21:E$21))/($B$13+SUM($B$17:E$17)-SUM($B$26:E$26)),0) -> 0 | F32: =IFERROR((SUM($B$25:F$25)-SUM($B$21:F$21))/($B$13+SUM($B$17:F$17)-SUM($B$26:F$26)),0) -> 0 | G32: =IFERROR((SUM($B$25:G$25)-SUM($B$21:G$21))/($B$13+SUM($B$17:G$17)-SUM($B$26:G$26)),0) -> 0 | H32: =IFERROR((SUM($B$25:H$25)-SUM($B$21:H$21))/($B$13+SUM($B$17:H$17)-SUM($B$26:H$26)),0) -> 0 | I32: =IFERROR((SUM($B$25:I$25)-SUM($B$21:I$21))/($B$13+SUM($B$17:I$17)-SUM($B$26:I$26)),0) -> 0 | ... M32: =IFERROR((SUM($B$25:M$25)-SUM($B$21:M$21))/($B$13+SUM($B$17:M$17)-SUM($B$26:M$26)),0) -> 0 | N32: =M32 -> 0
A34: Cumulative Annual Growth | B34: =IF($B$13=0,0,(B29/$B$13)-1) -> 0 | C34: =IF($B$13=0,0,(C29/$B$13)-1) -> 0 | D34: =IF($B$13=0,0,(D29/$B$13)-1) -> 0 | E34: =IF($B$13=0,0,(E29/$B$13)-1) -> 0 | F34: =IF($B$13=0,0,(F29/$B$13)-1) -> 0 | G34: =IF($B$13=0,0,(G29/$B$13)-1) -> 0 | H34: =IF($B$13=0,0,(H29/$B$13)-1) -> 0 | I34: =IF($B$13=0,0,(I29/$B$13)-1) -> 0 | ... N34: =IF($B$13=0,0,(N29/$B$13)-1) -> 0

Sheet Program Revenue 9
A1: Program Revenue Worksheet
A3: Institution Name: | G3: Program Title: | M3: Tuition Factor: | N3: 0
A4: Institution City: | G4: Credential:
A5: Prepared By: | G5: Clock Hours: | I5: Credit Hours:
B7: Month 1 | C7: Month 2 | D7: Month 3 | E7: Month 4 | F7: Month 5 | G7: Month 6 | H7: Month 7 | I7: Month 8 | J7: Month 9 | K7: Month 10 | L7: Month 11 | M7: Month 12 | N7: YTD
A8: Tuition Revenue: | B8: =+$N$3*(B23-B20-B16-B26) -> 0 | C8: =+$N$3*(C23-C20-C16-C26) -> 0 | D8: =+$N$3*(D23-D20-D16-D26) -> 0 | E8: =+$N$3*(E23-E20-E16-E26) -> 0 | F8: =+$N$3*(F23-F20-F16-F26) -> 0 | G8: =+$N$3*(G23-G20-G16-G26) -> 0 | H8: =+$N$3*(H23-H20-H16-H26) -> 0 | I8: =+$N$3*(I23-I20-I16-I26) -> 0 | ... M8: =+$N$3*(M23-M20-M16-M26) -> 0 | N8: =SUM(B8:M8) -> 0
B11: Month 1 | C11: Month 2 | D11: Month 3 | E11: Month 4 | F11: Month 5 | G11: Month 6 | H11: Month 7 | I11: Month 8 | J11: Month 9 | K11: Month 10 | L11: Month 11 | M11: Month 12 | N11: YTD
B12: 1 | C12: 2 | D12: 3 | E12: 4 | F12: 5 | G12: 6 | H12: 7 | I12: 8 | J12: 9 | K12: 10 | L12: 11 | M12: 12 | N12: 13
A13: Beginning Pop | C13: =B29 -> 0 | D13: =C29 -> 0 | E13: =D29 -> 0 | F13: =E29 -> 0 | G13: =F29 -> 0 | H13: =G29 -> 0 | I13: =H29 -> 0 | J13: =I29 -> 0 | ... M13: =L29 -> 0 | N13: =B13 -> 0
A15: New Starts - Beg. of Month | N15: =SUM(B15:M15) -> 0
A16: New Starts - End of Month | N16: =SUM(B16:M16) -> 0
A17: Total New Starts | B17: =SUM(B15:B16) -> 0 | C17: =SUM(C15:C16) -> 0 | D17: =SUM(D15:D16) -> 0 | E17: =SUM(E15:E16) -> 0 | F17: =SUM(F15:F16) -> 0 | G17: =SUM(G15:G16) -> 0 | H17: =SUM(H15:H16) -> 0 | I17: =SUM(I15:I16) -> 0 | ... N17: =SUM(N15:N16) -> 0
A19: Re-Entries - Beg. of Month | N19: =SUM(B19:M19) -> 0
A20: Re-Entries - End of Month | N20: =SUM(B20:M20) -> 0
A21: Total Re-entries | B21: =SUM(B19:B20) -> 0 | C21: =SUM(C19:C20) -> 0 | D21: =SUM(D19:D20) -> 0 | E21: =SUM(E19:E20) -> 0 | F21: =SUM(F19:F20) -> 0 | G21: =SUM(G19:G20) -> 0 | H21: =SUM(H19:H20) -> 0 | I21: =SUM(I19:I20) -> 0 | ... N21: =SUM(N19:N20) -> 0
A23: Total Working Population | B23: =SUM(B13,B17,B21) -> 0 | C23: =SUM(C13,C17,C21) -> 0 | D23: =SUM(D13,D17,D21) -> 0 | E23: =SUM(E13,E17,E21) -> 0 | F23: =SUM(F13,F17,F21) -> 0 | G23: =SUM(G13,G17,G21) -> 0 | H23: =SUM(H13,H17,H21) -> 0 | I23: =SUM(I13,I17,I21) -> 0 | ... N23: =SUM(N13,N17,N21) -> 0
A25: Withdrawals | N25: =SUM(B25:M25) -> 0
A26: Leaves of Absence | N26: =SUM(B26:M26) -> 0
A27: Graduates | N27: =SUM(B27:M27) -> 0
A29: Ending Population | B29: =(B23-SUM(B25:B27)) -> 0 | C29: =(C23-SUM(C25:C27)) -> 0 | D29: =(D23-SUM(D25:D27)) -> 0 | E29: =(E23-SUM(E25:E27)) -> 0 | F29: =(F23-SUM(F25:F27)) -> 0 | G29: =(G23-SUM(G25:G27)) -> 0 | H29: =(H23-SUM(H25:H27)) -> 0 | I29: =(I23-SUM(I25:I27)) -> 0 | ... N29: =(N23-SUM(N25:N27)) -> 0
A31: Monthly Attrition | B31: =IFERROR((B25-B21)/(B13+B17-B26),0) -> 0 | C31: =IFERROR((C25-C21)/(C13+C17-C26),0) -> 0 | D31: =IFERROR((D25-D21)/(D13+D17-D26),0) -> 0 | E31: =IFERROR((E25-E21)/(E13+E17-E26),0) -> 0 | F31: =IFERROR((F25-F21)/(F13+F17-F26),0) -> 0 | G31: =IFERROR((G25-G21)/(G13+G17-G26),0) -> 0 | H31: =IFERROR((H25-H21)/(H13+H17-H26),0) -> 0 | I31: =IFERROR((I25-I21)/(I13+I17-I26),0) -> 0 | ... M31: =IFERROR((M25-M21)/(M13+M17-M26),0) -> 0 | N31: =AVERAGE(B31:M31) -> 0
A32: Cumulative Annual Attrition | B32: =IFERROR((SUM($B$25:B$25)-SUM($B$21:B$21))/($B$13+SUM($B$17:B$17)-SUM($B$26:B$26)),0) -> 0 | C32: =IFERROR((SUM($B$25:C$25)-SUM($B$21:C$21))/($B$13+SUM($B$17:C$17)-SUM($B$26:C$26)),0) -> 0 | D32: =IFERROR((SUM($B$25:D$25)-SUM($B$21:D$21))/($B$13+SUM($B$17:D$17)-SUM($B$26:D$26)),0) -> 0 | E32: =IFERROR((SUM($B$25:E$25)-SUM($B$21:E$21))/($B$13+SUM($B$17:E$17)-SUM($B$26:E$26)),0) -> 0 | F32: =IFERROR((SUM($B$25:F$25)-SUM($B$21:F$21))/($B$13+SUM($B$17:F$17)-SUM($B$26:F$26)),0) -> 0 | G32: =IFERROR((SUM($B$25:G$25)-SUM($B$21:G$21))/($B$13+SUM($B$17:G$17)-SUM($B$26:G$26)),0) -> 0 | H32: =IFERROR((SUM($B$25:H$25)-SUM($B$21:H$21))/($B$13+SUM($B$17:H$17)-SUM($B$26:H$26)),0) -> 0 | I32: =IFERROR((SUM($B$25:I$25)-SUM($B$21:I$21))/($B$13+SUM($B$17:I$17)-SUM($B$26:I$26)),0) -> 0 | ... M32: =IFERROR((SUM($B$25:M$25)-SUM($B$21:M$21))/($B$13+SUM($B$17:M$17)-SUM($B$26:M$26)),0) -> 0 | N32: =M32 -> 0
A34: Cumulative Annual Growth | B34: =IF($B$13=0,0,(B29/$B$13)-1) -> 0 | C34: =IF($B$13=0,0,(C29/$B$13)-1) -> 0 | D34: =IF($B$13=0,0,(D29/$B$13)-1) -> 0 | E34: =IF($B$13=0,0,(E29/$B$13)-1) -> 0 | F34: =IF($B$13=0,0,(F29/$B$13)-1) -> 0 | G34: =IF($B$13=0,0,(G29/$B$13)-1) -> 0 | H34: =IF($B$13=0,0,(H29/$B$13)-1) -> 0 | I34: =IF($B$13=0,0,(I29/$B$13)-1) -> 0 | ... N34: =IF($B$13=0,0,(N29/$B$13)-1) -> 0

Sheet Program Revenue 10
A1: Program Revenue Worksheet
A3: Institution Name: | G3: Program Title: | M3: Tuition Factor: | N3: 0
A4: Institution City: | G4: Credential:
A5: Prepared By: | G5: Clock Hours: | I5: Credit Hours:
B7: Month 1 | C7: Month 2 | D7: Month 3 | E7: Month 4 | F7: Month 5 | G7: Month 6 | H7: Month 7 | I7: Month 8 | J7: Month 9 | K7: Month 10 | L7: Month 11 | M7: Month 12 | N7: YTD
